BEGIN:VCALENDAR
VERSION:2.0
PRODID:-// - ECPv6.15.20//NONSGML v1.0//EN
CALSCALE:GREGORIAN
METHOD:PUBLISH
X-ORIGINAL-URL:https://kendo.pt
X-WR-CALDESC:Eventos para 
REFRESH-INTERVAL;VALUE=DURATION:PT1H
X-Robots-Tag:noindex
X-PUBLISHED-TTL:PT1H
BEGIN:VTIMEZONE
TZID:UTC
BEGIN:STANDARD
TZOFFSETFROM:+0000
TZOFFSETTO:+0000
TZNAME:UTC
DTSTART:20240101T000000
END:STANDARD
END:VTIMEZONE
BEGIN:VEVENT
DTSTART;VALUE=DATE:20250830
DTEND;VALUE=DATE:20250831
DTSTAMP:20260421T094801
CREATED:20250102T005609Z
LAST-MODIFIED:20250102T005609Z
UID:918-1756512000-1756598399@kendo.pt
SUMMARY:Treino Nacional (Jodo)
DESCRIPTION:
URL:https://kendo.pt/event/treino-nacional-jodo-3/
LOCATION:Escola Secundária da Maia\, Avenida Luís de Camões\, 4470-194 Maia\, Portugal
CATEGORIES:Jodo
END:VEVENT
END:VCALENDAR