BEGIN:VCALENDAR
VERSION:2.0
PRODID:-// - ECPv6.15.20//NONSGML v1.0//EN
CALSCALE:GREGORIAN
METHOD:PUBLISH
X-ORIGINAL-URL:https://kendo.pt
X-WR-CALDESC:Eventos para 
REFRESH-INTERVAL;VALUE=DURATION:PT1H
X-Robots-Tag:noindex
X-PUBLISHED-TTL:PT1H
BEGIN:VTIMEZONE
TZID:UTC
BEGIN:STANDARD
TZOFFSETFROM:+0000
TZOFFSETTO:+0000
TZNAME:UTC
DTSTART:20240101T000000
END:STANDARD
END:VTIMEZONE
BEGIN:VEVENT
DTSTART;VALUE=DATE:20250405
DTEND;VALUE=DATE:20250407
DTSTAMP:20260421T151848
CREATED:20250102T010154Z
LAST-MODIFIED:20250225T115138Z
UID:923-1743811200-1743983999@kendo.pt
SUMMARY:3º Encontro Internacional de Iaido
DESCRIPTION:
URL:https://kendo.pt/event/3o-encontro-nacional-de-iaido/
LOCATION:Pavilhão da Escola Manuel Figueiredo\, R. José Costa Nery\, Torres Novas\, 2350-090\, Portugal
CATEGORIES:Estágio,Iaido
ATTACH;FMTTYPE=image/jpeg:https://kendo.pt/wp-content/uploads/2018/09/1_uCXc4uwK7tP-R29L39Jo_A.jpeg
END:VEVENT
BEGIN:VEVENT
DTSTART;VALUE=DATE:20250412
DTEND;VALUE=DATE:20250413
DTSTAMP:20260421T151848
CREATED:20250102T143919Z
LAST-MODIFIED:20250204T095710Z
UID:954-1744416000-1744502399@kendo.pt
SUMMARY:Treino Nacional (Kendo)
DESCRIPTION:
URL:https://kendo.pt/event/treino-nacional-kendo-4/
LOCATION:Pavilhão Desportivo dos Pousos\, R. Virgílio Monteiro\, Leiria\, 2410-408\, Portugal
CATEGORIES:Estágio,Kendo
ATTACH;FMTTYPE=image/jpeg:https://kendo.pt/wp-content/uploads/2018/09/IMG_1578_.jpg
END:VEVENT
BEGIN:VEVENT
DTSTART;VALUE=DATE:20250413
DTEND;VALUE=DATE:20250414
DTSTAMP:20260421T151848
CREATED:20250102T144032Z
LAST-MODIFIED:20250402T172819Z
UID:956-1744502400-1744588799@kendo.pt
SUMMARY:Ariga Cup
DESCRIPTION:Site e Inscrições: https://arigacup.kendo.pt/wp/inscricao/
URL:https://kendo.pt/event/ariga-cup/
LOCATION:Pavilhão Desportivo dos Pousos\, R. Virgílio Monteiro\, Leiria\, 2410-408\, Portugal
CATEGORIES:Competição,Kendo
ATTACH;FMTTYPE=image/jpeg:https://kendo.pt/wp-content/uploads/2018/11/27th-European-Kendo-Championship-France-Portugal.jpg
END:VEVENT
BEGIN:VEVENT
DTSTART;VALUE=DATE:20250426
DTEND;VALUE=DATE:20250427
DTSTAMP:20260421T151849
CREATED:20250102T005339Z
LAST-MODIFIED:20250102T005339Z
UID:914-1745625600-1745711999@kendo.pt
SUMMARY:Campeonato Nacional de Jodo
DESCRIPTION:
URL:https://kendo.pt/event/campeonato-nacional-de-jodo/
LOCATION:Lagoa\, R. de Che Lagoense 74\, 8400-303 Lagoa\, Lagoa\, Portugal
CATEGORIES:Competição,Jodo
END:VEVENT
END:VCALENDAR