BEGIN:VCALENDAR
VERSION:2.0
PRODID:-// - ECPv6.15.20//NONSGML v1.0//EN
CALSCALE:GREGORIAN
METHOD:PUBLISH
X-ORIGINAL-URL:https://kendo.pt
X-WR-CALDESC:Eventos para 
REFRESH-INTERVAL;VALUE=DURATION:PT1H
X-Robots-Tag:noindex
X-PUBLISHED-TTL:PT1H
BEGIN:VTIMEZONE
TZID:UTC
BEGIN:STANDARD
TZOFFSETFROM:+0000
TZOFFSETTO:+0000
TZNAME:UTC
DTSTART:20230101T000000
END:STANDARD
END:VTIMEZONE
BEGIN:VEVENT
DTSTART;VALUE=DATE:20241130
DTEND;VALUE=DATE:20241202
DTSTAMP:20260422T011156
CREATED:20240610T002257Z
LAST-MODIFIED:20240610T002257Z
UID:851-1732924800-1733097599@kendo.pt
SUMMARY:Campeonato Nacional de Kendo
DESCRIPTION:30 de Novembro \nJuniores (individuais)\nSeniores – masculinos e femininos (individuais) \n1 de Dezembro \nVeteranos (individuais)\nEquipas Seniores – masculinos e femininos \n  \nMais informações brevemente
URL:https://kendo.pt/event/campeonato-nacional-de-kendo/
LOCATION:Palácio dos Desportos\, R. da Várzea 9\, Torres Novas\, 2350-433\, Portugal
CATEGORIES:Competição,Kendo
ATTACH;FMTTYPE=image/jpeg:https://kendo.pt/wp-content/uploads/2018/09/16th-World-Kendo-Championship-Portugal-Belgium-3-1.jpg
END:VEVENT
END:VCALENDAR