BEGIN:VCALENDAR
VERSION:2.0
PRODID:-// - ECPv6.15.20//NONSGML v1.0//EN
CALSCALE:GREGORIAN
METHOD:PUBLISH
X-ORIGINAL-URL:https://kendo.pt
X-WR-CALDESC:Eventos para 
REFRESH-INTERVAL;VALUE=DURATION:PT1H
X-Robots-Tag:noindex
X-PUBLISHED-TTL:PT1H
BEGIN:VTIMEZONE
TZID:UTC
BEGIN:STANDARD
TZOFFSETFROM:+0000
TZOFFSETTO:+0000
TZNAME:UTC
DTSTART:20220101T000000
END:STANDARD
END:VTIMEZONE
BEGIN:VEVENT
DTSTART;VALUE=DATE:20230311
DTEND;VALUE=DATE:20230312
DTSTAMP:20260423T092320
CREATED:20230218T170143Z
LAST-MODIFIED:20230218T170144Z
UID:598-1678492800-1678579199@kendo.pt
SUMMARY:Treino Nacional de Kendo - Março 2023
DESCRIPTION:Os Treinos Nacionais são destinados a todos os praticantes independentemente do seu nível de Kendo. O objectivo destes treinos é fomentar a prática entre os vários clubes nacionais\, uniformizar métodos de ensino e exercícios seguindo um plano organizado pelo sensei Ariga\, e dar oportunidade aos iniciantes de treinar com pessoas mais experientes.
URL:https://kendo.pt/event/treino-nacional-de-kendo-marco-2023/
LOCATION:Pavilhão Municipal de Santa Eufémia\, Rua Manuel Ezequiel de Sousa\, Santa Eufémia\, Leiria\, Portugal
CATEGORIES:Estágio,Kendo
ATTACH;FMTTYPE=image/jpeg:https://kendo.pt/wp-content/uploads/2018/09/34504462_382977505531222_7221138792621539328_o-e1537309694673.jpg
END:VEVENT
BEGIN:VEVENT
DTSTART;VALUE=DATE:20230318
DTEND;VALUE=DATE:20230319
DTSTAMP:20260423T092320
CREATED:20230219T004244Z
LAST-MODIFIED:20230311T225649Z
UID:643-1679097600-1679183999@kendo.pt
SUMMARY:Taikai Nacional Iaido 2023
DESCRIPTION:O primeiro evento FPKIJ de Iaido este ano (Taikai e Estágio de Arbitragem) irá realizar-se no próximo sábado\, 18 de Março\, em Aveiro. O local é o habitual Pavilhão do Departamento de Educação e Psicologia da Universidade de Aveiro: \nhttps://goo.gl/maps/Mf24oythYukc5msV6 \nCoordenadas GPS: 40.63210633674209\, -8.658083327950818 \nTemos o espaço disponível por nossa conta das 10h00 às 17h00\, sendo que a partir das 9h00 teremos pessoas a receber-vos\, com acesso ao espaço.\nNa sequência do último evento de Iaido realizado no mesmo local em fevereiro de 2020 (antes da pandemia)\, o investimento para inscrição é de 10 Euros (pago no local).
URL:https://kendo.pt/event/taikai-nacional-iaido-2023/
LOCATION:Aveiro\, Campus Universitário de Santiago\,\, Aveiro\, Aveiro\, 3810-193\, Portugal
CATEGORIES:Competição,Iaido
ATTACH;FMTTYPE=image/jpeg:https://kendo.pt/wp-content/uploads/2023/03/CNI2023_-APROV_01-scaled.jpg
END:VEVENT
END:VCALENDAR