BEGIN:VCALENDAR
VERSION:2.0
PRODID:-// - ECPv6.15.20//NONSGML v1.0//EN
CALSCALE:GREGORIAN
METHOD:PUBLISH
X-ORIGINAL-URL:https://kendo.pt
X-WR-CALDESC:Eventos para 
REFRESH-INTERVAL;VALUE=DURATION:PT1H
X-Robots-Tag:noindex
X-PUBLISHED-TTL:PT1H
BEGIN:VTIMEZONE
TZID:UTC
BEGIN:STANDARD
TZOFFSETFROM:+0000
TZOFFSETTO:+0000
TZNAME:UTC
DTSTART:20210101T000000
END:STANDARD
END:VTIMEZONE
BEGIN:VEVENT
DTSTART;VALUE=DATE:20220423
DTEND;VALUE=DATE:20220424
DTSTAMP:20260424T014409
CREATED:20220207T095705Z
LAST-MODIFIED:20220306T103040Z
UID:482-1650672000-1650758399@kendo.pt
SUMMARY:Treino Nacional de Kendo - Abril 2022
DESCRIPTION:Os Treinos Nacionais são destinados a todos os praticantes independentemente do seu nível de Kendo. O objectivo destes treinos é fomentar a prática entre os vários clubes nacionais\, uniformizar métodos de ensino e exercícios seguindo um plano organizado pelo sensei Ariga\, e dar oportunidade aos iniciantes de treinar com pessoas mais experientes.
URL:https://kendo.pt/event/treino-nacional-de-kendo-abril-2022/
LOCATION:Pavilhão do Lis – Leiria\, Largo José Marques da Cruz\, Cortes\, Leiria\, Leiria\, Portugal
CATEGORIES:Estágio,Kendo
END:VEVENT
END:VCALENDAR