BEGIN:VCALENDAR
VERSION:2.0
PRODID:-// - ECPv6.15.20//NONSGML v1.0//EN
CALSCALE:GREGORIAN
METHOD:PUBLISH
X-ORIGINAL-URL:https://kendo.pt
X-WR-CALDESC:Eventos para 
REFRESH-INTERVAL;VALUE=DURATION:PT1H
X-Robots-Tag:noindex
X-PUBLISHED-TTL:PT1H
BEGIN:VTIMEZONE
TZID:UTC
BEGIN:STANDARD
TZOFFSETFROM:+0000
TZOFFSETTO:+0000
TZNAME:UTC
DTSTART:20210101T000000
END:STANDARD
END:VTIMEZONE
BEGIN:VEVENT
DTSTART;VALUE=DATE:20220212
DTEND;VALUE=DATE:20220213
DTSTAMP:20260424T043307
CREATED:20210919T184621Z
LAST-MODIFIED:20220208T185704Z
UID:450-1644624000-1644710399@kendo.pt
SUMMARY:Treino Nacional de Kendo - Fevereiro 2022
DESCRIPTION:Os Treinos Nacionais são destinados a todos os praticantes independentemente do seu nível de Kendo. O objectivo destes treinos é fomentar a prática entre os vários clubes nacionais\, uniformizar métodos de ensino e exercícios seguindo um plano organizado pelo sensei Ariga\, e dar oportunidade aos iniciantes de treinar com pessoas mais experientes. \nMapa: https://goo.gl/maps/Pkd6GhCjjuYyCVzs6 \nO horário previsto para o treino será: \nSessão da manhã: 10h30 – 12h\nSessão da tarde: 14h – 17h \nEstejam por volta das 10h no pavilhão para se poderem equipar. \nComo é um evento nacional será necessária a apresentação do certificado de vacinação/recuperação ou em alternativa teste negativo para poderem participar.
URL:https://kendo.pt/event/treino-nacional-de-kendo-fevereiro-2022/
LOCATION:Pavilhão Desportivo dos Pousos\, R. Virgílio Monteiro\, Leiria\, 2410-408\, Portugal
CATEGORIES:Estágio,Kendo
ATTACH;FMTTYPE=image/jpeg:https://kendo.pt/wp-content/uploads/2018/09/13932186_10209886642873031_42147768_o-e1470223220404-1024x292.jpg
END:VEVENT
END:VCALENDAR