BEGIN:VCALENDAR
VERSION:2.0
PRODID:-// - ECPv6.15.20//NONSGML v1.0//EN
CALSCALE:GREGORIAN
METHOD:PUBLISH
X-ORIGINAL-URL:https://kendo.pt
X-WR-CALDESC:Eventos para 
REFRESH-INTERVAL;VALUE=DURATION:PT1H
X-Robots-Tag:noindex
X-PUBLISHED-TTL:PT1H
BEGIN:VTIMEZONE
TZID:UTC
BEGIN:STANDARD
TZOFFSETFROM:+0000
TZOFFSETTO:+0000
TZNAME:UTC
DTSTART:20190101T000000
END:STANDARD
END:VTIMEZONE
BEGIN:VEVENT
DTSTART;VALUE=DATE:20200314
DTEND;VALUE=DATE:20200322
DTSTAMP:20260425T164241
CREATED:20191106T234840Z
LAST-MODIFIED:20191106T234841Z
UID:379-1584144000-1584835199@kendo.pt
SUMMARY:8º Estágio Portugal-Butokuden
DESCRIPTION:Este estágio intensivo de 7 dias no dojo Butokuden em Irvine\, California é organizado pela Associação Portuguesa de Kendo e pelo director técnico e seleccionador nacional\, Sensei Taro Ariga\, responsável pelo dojo Butokuden. \nDurante 7 dias a delegação escolhida para 2020 treinará sob a orientação técnica do Sensei Ariga e participará em eventos da SCKO (South California Kendo Organization). \nO estágio tentará condensar todos os aspectos relacionados com o desenvolvimento do ensino do Kendo nas suas diversas vertentes. \nAs vagas são exclusivas a federados APK e o seu número será limitado a 10 participantes. São critérios de inclusão\, por ordem decrescente: \n1 – Finalistas do Campeonato Nacional de 2019 (Masculino e Feminino).\n2 – Finalistas dos escalões do Campeonato Nacional Masculino.\n3 – Todas as atletas femininas.\n4 – Instrutores reconhecidos pela APK.\n5 – Membros da Selecção Nacional de Kendo.\n6 – Graduação mínima de 2ºDan.
URL:https://kendo.pt/event/8o-estagio-portugal-butokuden/
LOCATION:Butokuden\, 1581 Browning\, Irvine\, CA\, 92606\, Estados Unidos
CATEGORIES:Estágio,Internacional,Kendo
ATTACH;FMTTYPE=image/jpeg:https://kendo.pt/wp-content/uploads/2019/11/57710714_10156008334732797_624813141934473216_o.jpg
END:VEVENT
END:VCALENDAR