BEGIN:VCALENDAR
VERSION:2.0
PRODID:-// - ECPv6.15.20//NONSGML v1.0//EN
CALSCALE:GREGORIAN
METHOD:PUBLISH
X-ORIGINAL-URL:https://kendo.pt
X-WR-CALDESC:Eventos para 
REFRESH-INTERVAL;VALUE=DURATION:PT1H
X-Robots-Tag:noindex
X-PUBLISHED-TTL:PT1H
BEGIN:VTIMEZONE
TZID:UTC
BEGIN:STANDARD
TZOFFSETFROM:+0000
TZOFFSETTO:+0000
TZNAME:UTC
DTSTART:20180101T000000
END:STANDARD
END:VTIMEZONE
BEGIN:VEVENT
DTSTART;TZID=UTC:20191005T110000
DTEND;TZID=UTC:20191005T170000
DTSTAMP:20260426T001812
CREATED:20190605T175152Z
LAST-MODIFIED:20190912T234250Z
UID:363-1570273200-1570294800@kendo.pt
SUMMARY:Torneio de Equipas Livre
DESCRIPTION:Torneio de Equipas (Livre) \nNova competição de Kendo no formato de equipas\, em que as mesmas serão formadas aleatoriamente a partir dos atletas inscritos. Cada clube deverá inscrever os seus atletas interessados em participar no site de gestão de clubes da APK. \nRegras: Regras da competição 2019 – Equipas – Livre
URL:https://kendo.pt/event/torneio-de-equipas-livre/
LOCATION:Ginásio Clube de Corroios\, R. Ginásio Clube de Corroios 19\, Corroios\, 2855-150\, Portugal
CATEGORIES:Competição,Kendo
ATTACH;FMTTYPE=image/jpeg:https://kendo.pt/wp-content/uploads/2019/06/CIMG1250.jpg
END:VEVENT
END:VCALENDAR