BEGIN:VCALENDAR
VERSION:2.0
PRODID:-// - ECPv6.15.20//NONSGML v1.0//EN
CALSCALE:GREGORIAN
METHOD:PUBLISH
X-ORIGINAL-URL:https://kendo.pt
X-WR-CALDESC:Eventos para 
REFRESH-INTERVAL;VALUE=DURATION:PT1H
X-Robots-Tag:noindex
X-PUBLISHED-TTL:PT1H
BEGIN:VTIMEZONE
TZID:UTC
BEGIN:STANDARD
TZOFFSETFROM:+0000
TZOFFSETTO:+0000
TZNAME:UTC
DTSTART:20180101T000000
END:STANDARD
END:VTIMEZONE
BEGIN:VEVENT
DTSTART;VALUE=DATE:20190915
DTEND;VALUE=DATE:20190916
DTSTAMP:20260426T015210
CREATED:20181108T121945Z
LAST-MODIFIED:20181108T121945Z
UID:262-1568505600-1568591999@kendo.pt
SUMMARY:Treino Nacional de Kendo - Setembro 2019
DESCRIPTION:Os Treinos Nacionais são destinados a todos os praticantes independentemente do seu nível de Kendo. O objectivo destes treinos é fomentar a prática entre os vários clubes nacionais\, uniformizar métodos de ensino e exercícios seguindo um plano organizado pelo sensei Ariga\, e dar oportunidade aos iniciantes de treinar com pessoas mais experientes.
URL:https://kendo.pt/event/treino-nacional-de-kendo-setembro-2019/
LOCATION:Escola Secundária Eugénio de Castro\, Rua Almirante Gago Coutinho 3030-326\, Coimbra\, Portugal
CATEGORIES:Kendo
ATTACH;FMTTYPE=image/jpeg:https://kendo.pt/wp-content/uploads/2018/09/34504462_382977505531222_7221138792621539328_o-e1537309694673.jpg
END:VEVENT
END:VCALENDAR