BEGIN:VCALENDAR
VERSION:2.0
PRODID:-// - ECPv6.15.20//NONSGML v1.0//EN
CALSCALE:GREGORIAN
METHOD:PUBLISH
X-ORIGINAL-URL:https://kendo.pt
X-WR-CALDESC:Eventos para 
REFRESH-INTERVAL;VALUE=DURATION:PT1H
X-Robots-Tag:noindex
X-PUBLISHED-TTL:PT1H
BEGIN:VTIMEZONE
TZID:UTC
BEGIN:STANDARD
TZOFFSETFROM:+0000
TZOFFSETTO:+0000
TZNAME:UTC
DTSTART:20170101T000000
END:STANDARD
END:VTIMEZONE
BEGIN:VEVENT
DTSTART;VALUE=DATE:20190120
DTEND;VALUE=DATE:20190121
DTSTAMP:20260419T220808
CREATED:20181108T111336Z
LAST-MODIFIED:20181108T115545Z
UID:216-1547942400-1548028799@kendo.pt
SUMMARY:Treino Nacional de Kendo - Janeiro 2019
DESCRIPTION:Os Treinos Nacionais são destinados a todos os praticantes independentemente do seu nível de Kendo. O objectivo destes treinos é fomentar a prática entre os vários clubes nacionais\, uniformizar métodos de ensino e exercícios seguindo um plano organizado pelo sensei Ariga\, e dar oportunidade aos iniciantes de treinar com pessoas mais experientes.
URL:https://kendo.pt/event/treino-nacional-de-kendo/
LOCATION:Escola Secundária Eugénio de Castro\, Rua Almirante Gago Coutinho 3030-326\, Coimbra\, Portugal
CATEGORIES:Kendo
ATTACH;FMTTYPE=image/jpeg:https://kendo.pt/wp-content/uploads/2018/09/34504462_382977505531222_7221138792621539328_o-e1537309694673.jpg
END:VEVENT
BEGIN:VEVENT
DTSTART;VALUE=DATE:20181202
DTEND;VALUE=DATE:20181203
DTSTAMP:20260419T220808
CREATED:20180918T235514Z
LAST-MODIFIED:20181119T180808Z
UID:34-1543708800-1543795199@kendo.pt
SUMMARY:Tryouts para a Selecção Nacional de Kendo
DESCRIPTION:– Tryouts para a Selecção Nacional de Kendo \nNo dia 2 de Dezembro haverá tryouts para a escolha dos restantes elementos da Selecção Nacional de Kendo. A Equipa Técnica Nacional conjuntamente com o Seleccionador Nacional irão avaliar e escolher os atletas que irão representar Portugal no próximo Campeonato do Europeu de Kendo a realizar em 2019 na Sérvia. \nOs tryouts irão consistir em torneios de shiai no formato Round-Robin\, utilizando os regulamentos de competição em vigor. Resumidamente\, combates a decidir por San Bon Shobu\, com duração de 3 minutos\, sendo permitidos empates. \nSerão organizados três grupos de 6 ou mais competidores\, sendo escolhidos os 2 competidores com maior pontuação em cada um dos 3 grupos. Estes integrarão um grupo final de 6 competidores em que os três competidores\, deste grupo\, com maior pontuação irão ter acesso directo à Selecção Nacional.\nA pontuação volta a zero sempre que se inicia um grupo. \nNão existem restrições de idade ou graduação para participação nos tryouts. \nA participação nos tryouts implica\, obviamente\, compromisso com a selecção nacional para todo o ano de 2019 e disponibilidade total para participação no campeonato do Europeu de Kendo em 2019. \nO processo de selecção ocorrerá da seguinte forma: \n\nSelecção feminina\n\nA escolha do número e dos elementos será exclusivamente da responsabilidade do seleccionador nacional. \n\nSelecção Masculina\n\nA escolha dos 6 ou 7 elementos que a integrarão será feita da seguinte forma: \n\nCampeão nacional masculino\n3 primeiros classificados dos try-outs a decorrer no dia 2 de Dezembro.\n2 ou 3 elementos escolhidos pelo selecionador nacional\n\nRecordamos que o último momento de escolha de elementos para 2019\, pelo seleccionador nacional será durante o estágio a realizar em Fevereiro de 2019.
URL:https://kendo.pt/event/tryouts-para-a-seleccao-nacional-de-kendo/
LOCATION:Escola Secundária Eugénio de Castro\, Rua Almirante Gago Coutinho 3030-326\, Coimbra\, Portugal
CATEGORIES:Competição,Kendo
ATTACH;FMTTYPE=image/jpeg:https://kendo.pt/wp-content/uploads/2018/09/13932186_10209886642873031_42147768_o-e1470223220404-1024x292.jpg
END:VEVENT
BEGIN:VEVENT
DTSTART;TZID=UTC:20181201T000000
DTEND;TZID=UTC:20181201T235900
DTSTAMP:20260419T220808
CREATED:20180918T235805Z
LAST-MODIFIED:20181121T171543Z
UID:37-1543622400-1543708740@kendo.pt
SUMMARY:Campeonato Nacional de Kendo de 2018
DESCRIPTION:Campeonato Nacional de Kendo de 2018. \nO campeonato Nacional irá decorrer no dia 1 de Dezembro e será composto por três escalões (Masculino\, Feminino e Juniores) existindo um campeão nacional para cada um deles. \nÉ de relembrar que o Campeão Nacional será\, por inerência\, escolhido para fazer parte da selecção nacional. Este evento contribui\, de forma decisiva\, para a observação e escolha de elementos para a Selecção Nacional de Kendo. \nNOTA: Atenção que poderá haver alterações nos escalões definidos dependendo do número de participantes inscritos. \nHorário: \n10h-17h (sem pausa de almoço) \nInscrições: \nA inscrição no Campeonato Nacional terá o custo de 10 euros por participante\, esse custo deverá ser pago pelos clubes à APK. O clubes devem inscrever os seus associados através do site de gestão de clubes.
URL:https://kendo.pt/event/campeonato-nacional-de-kendo-de-2018/
LOCATION:Pavilhão 1 Estádio Universitário\, Universidade de Coimbra\, Santa Clara\, 3004-531\, Portugal
CATEGORIES:Competição,Kendo
ATTACH;FMTTYPE=image/jpeg:https://kendo.pt/wp-content/uploads/2018/09/34276530_382977495531223_8420298463438176256_o-e1537482734445.jpg
END:VEVENT
BEGIN:VEVENT
DTSTART;VALUE=DATE:20181103
DTEND;VALUE=DATE:20181105
DTSTAMP:20260419T220808
CREATED:20180919T000002Z
LAST-MODIFIED:20180920T223325Z
UID:39-1541203200-1541375999@kendo.pt
SUMMARY:XIV International Ariga Seminar
DESCRIPTION:Mais informações em https://arigaseminar.kendo.pt/
URL:https://kendo.pt/event/xiv-international-ariga-seminar/
LOCATION:Pavilhão Desportivo dos Pousos\, R. Virgílio Monteiro\, Leiria\, 2410-408\, Portugal
CATEGORIES:Estágio,Kendo
ATTACH;FMTTYPE=image/png:https://kendo.pt/wp-content/uploads/2018/09/2014-09-17_08-50-39.png
END:VEVENT
BEGIN:VEVENT
DTSTART;VALUE=DATE:20181020
DTEND;VALUE=DATE:20181021
DTSTAMP:20260419T220808
CREATED:20180920T221333Z
LAST-MODIFIED:20180920T223935Z
UID:91-1539993600-1540079999@kendo.pt
SUMMARY:Encontro Nacional de Jodo 2018
DESCRIPTION:No próximo dia 20 de Outubro\, sábado\, das 10:00 às 18:00\, decorrerá em Aveiro um Encontro Nacional de Jodo organizado pelo Asakazekan\, em colaboração com o Zenshinkan – ICL e o Shinseikan. \nO evento terá como objetivo a partilha de conhecimento entre todos os dojos praticantes de Jodo em Portugal\, e a particpação será gratuita para todos os praticantes. O programa irá incidir essencialmente na prática de ZNKR Jodo\, bem como na explicação dos novos procedimentos para exame\, que já estão a ser usados no Japão há algum tempo\, e que começaram recentemente a ser usados também na Europa por federações membros da EKF.
URL:https://kendo.pt/event/encontro-nacional-de-jodo-2018/
LOCATION:Aveiro\, Campus Universitário de Santiago\,\, Aveiro\, Aveiro\, 3810-193\, Portugal
CATEGORIES:Jodo
ATTACH;FMTTYPE=image/jpeg:https://kendo.pt/wp-content/uploads/2018/09/EJCMierlo2009_1766-1024x570.jpg
END:VEVENT
BEGIN:VEVENT
DTSTART;VALUE=DATE:20181014
DTEND;VALUE=DATE:20181015
DTSTAMP:20260419T220808
CREATED:20180918T233852Z
LAST-MODIFIED:20181002T172107Z
UID:25-1539475200-1539561599@kendo.pt
SUMMARY:Torneio de Kendo - 35ª Seixaliada 2018
DESCRIPTION:O Ginásio clube de Corroios em conjunto com o apoio do Clube de Kendo de Lisboa vai organizar um torneio de Kendo inserido na 35ª Seixaliada. A participação no torneio é gratuita\, os clubes deverão inscrever os interessados até ao dia 9 de Outubro no site de gestão de clubes. \nOs competidores serão organizados por sorteio em sistema de pools\, em categoria única. As pools serão divulgadas a 11 de Outubro. \nRelembramos que a organização está a cargo do Clube de Kendo de Lisboa pelo que qualquer questão deverá ser colocada ao mesmo através do e-mail: ckl@ckl.pt \nHorário: \n– Shinai check 10:00 às 11:00\n– Inicio da competição às 11:00 \n 
URL:https://kendo.pt/event/torneio-de-kendo-35a-seixaliada-2018/
LOCATION:Ginásio Clube de Corroios\, R. Ginásio Clube de Corroios 19\, Corroios\, 2855-150\, Portugal
CATEGORIES:Competição,Kendo
ATTACH;FMTTYPE=image/jpeg:https://kendo.pt/wp-content/uploads/2018/09/Bruno-Moraes_CAPhoto-Formação-e1537482981778.jpg
END:VEVENT
BEGIN:VEVENT
DTSTART;VALUE=DATE:20181013
DTEND;VALUE=DATE:20181014
DTSTAMP:20260419T220808
CREATED:20181002T113712Z
LAST-MODIFIED:20181002T113712Z
UID:202-1539388800-1539475199@kendo.pt
SUMMARY:II Encontro Nacional de Iaido
DESCRIPTION:A APIAIDO – Associação Portuguesa de Iaido\, membro da Associação Portuguesa de Kendo (APK)\, dá-vos as boas vindas ao segundo Encontro Nacional de Iaido de 2018\, que terá lugar no próximo dia 13 de outubro de 2018\, em Almada.\nEste estágio será um treino conjunto\, em que praticantes de todos os clubes de Iaido portugueses poderão consolidar a sua prática\, sob a orientação dos elementos mais graduados a nível nacional. No final\, realizar-se-ão exames de Ikkyu (1º Kyu) e Shodan (1º Dan). \nINSTRUTORES\nO evento contará com o apoio e orientação técnica dos seguintes professores: \n\nJoaquim Mendes\, Iaido 5º Dan (Zenshinkan-ICL)\nJoão Maia\, Iaido 5º Dan (Zenshinkan-ICL)\nManuel Rodrigues\, Iaido 4º Dan (ICP)\nSandra Santos\, Iaido 4º Dan (Shinseikan)\nJoão Pires\, Iaido 4º Dan (Zenshinkan-ICL)\n\nHORÁRIO*\nSábado\, 13 de outubro de 2018: \n10h00—12h00: Sessão de abertura e mini estágio de Iaido ZNKR\n12h30—14h00: Almoço\n14h00—14h30: Inscrição nos exames\n14h30—16h30: Treino de preparação para exames\n16h45—17h45: Exames de Iaido (Shodan e Ikkyu)\n17h45—18h00: Sessão de encerramento \n*o horário e/ou programa podem ser sujeitos a alterações no próprio dia. \nInformações completas no seguinte pdf: \nII ENCONTRO NACIONAL DE IAIDO – OUTUBRO 2018
URL:https://kendo.pt/event/ii-encontro-nacional-de-iaido/
LOCATION:Escola Secundária António Gedeão\, no Laranjeiro\, Almada\, Alameda Guerra Junqueiro 11\, 2814-503 Laranjeiro.\, Almada\, 2814-503\, Portugal
CATEGORIES:Estágio,Iaido
ATTACH;FMTTYPE=image/png:https://kendo.pt/wp-content/uploads/2018/10/pub_II-ENCONTRO_IAIDO-FB-03.png
END:VEVENT
END:VCALENDAR