BEGIN:VCALENDAR
VERSION:2.0
PRODID:-// - ECPv6.15.20//NONSGML v1.0//EN
CALSCALE:GREGORIAN
METHOD:PUBLISH
X-ORIGINAL-URL:https://kendo.pt
X-WR-CALDESC:Eventos para 
REFRESH-INTERVAL;VALUE=DURATION:PT1H
X-Robots-Tag:noindex
X-PUBLISHED-TTL:PT1H
BEGIN:VTIMEZONE
TZID:UTC
BEGIN:STANDARD
TZOFFSETFROM:+0000
TZOFFSETTO:+0000
TZNAME:UTC
DTSTART:20230101T000000
END:STANDARD
END:VTIMEZONE
BEGIN:VEVENT
DTSTART;VALUE=DATE:20240704
DTEND;VALUE=DATE:20240708
DTSTAMP:20260421T225301
CREATED:20240609T233548Z
LAST-MODIFIED:20240609T233628Z
UID:844-1720051200-1720396799@kendo.pt
SUMMARY:19th World Kendo Championships
DESCRIPTION:Mais informações em https://wkc2024.com/
URL:https://kendo.pt/event/19th-world-kendo-championships/
LOCATION:Milão\, Milão\, Itália
CATEGORIES:Competição,Internacional,Kendo
ATTACH;FMTTYPE=image/jpeg:https://kendo.pt/wp-content/uploads/2024/06/Logo-nero.jpg
END:VEVENT
END:VCALENDAR