BEGIN:VCALENDAR
VERSION:2.0
PRODID:-// - ECPv6.15.20//NONSGML v1.0//EN
CALSCALE:GREGORIAN
METHOD:PUBLISH
X-ORIGINAL-URL:https://kendo.pt
X-WR-CALDESC:Eventos para 
REFRESH-INTERVAL;VALUE=DURATION:PT1H
X-Robots-Tag:noindex
X-PUBLISHED-TTL:PT1H
BEGIN:VTIMEZONE
TZID:UTC
BEGIN:STANDARD
TZOFFSETFROM:+0000
TZOFFSETTO:+0000
TZNAME:UTC
DTSTART:20230101T000000
END:STANDARD
END:VTIMEZONE
BEGIN:VEVENT
DTSTART;VALUE=DATE:20240504
DTEND;VALUE=DATE:20240506
DTSTAMP:20260422T015736
CREATED:20240303T230220Z
LAST-MODIFIED:20240303T230220Z
UID:826-1714780800-1714953599@kendo.pt
SUMMARY:Estágio Nacional de Iaido 2024
DESCRIPTION:A orientação do estágio e o painel de exames estará a cargo dos seguintes Senseis: \nRobert Rodriguez\, 7º Dan Kyoshi \nJoaquim Mendes\, 5º Dan \nPere Calpe\, 5º Dan \nJoão Maia\, 5º Dan \nManuel Rodrigues\, 5º Dan \nHorário  \nSábado\, 4 de maio \n09:45 – Cerimónia de abertura \n10:00 – 12:30 – Prática \n12:30 – 14:30 – Pausa para almoço \n14:30 – 17:30 – Prática Domingo\, \nDomingo\, 5 de maio  \n09:30 – 12:30 – Prática \n12:30 – 14:30 – Pausa para almoço \n14:30 – 17:00 – Exames de Graduação \n17:30 – Cerimónia de encerramento \n  \nInformação do Estágio Nacional Iaido 2024
URL:https://kendo.pt/event/estagio-nacional-de-iaido-2024/
LOCATION:Pavilhão da Escola Manuel Figueiredo\, R. José Costa Nery\, Torres Novas\, 2350-090\, Portugal
CATEGORIES:Estágio,Iaido,Internacional
ATTACH;FMTTYPE=image/jpeg:https://kendo.pt/wp-content/uploads/2018/09/iaido-3-tim-nichols.jpg
END:VEVENT
END:VCALENDAR