BEGIN:VCALENDAR
VERSION:2.0
PRODID:-// - ECPv6.15.20//NONSGML v1.0//EN
CALSCALE:GREGORIAN
METHOD:PUBLISH
X-ORIGINAL-URL:https://kendo.pt
X-WR-CALDESC:Eventos para 
REFRESH-INTERVAL;VALUE=DURATION:PT1H
X-Robots-Tag:noindex
X-PUBLISHED-TTL:PT1H
BEGIN:VTIMEZONE
TZID:UTC
BEGIN:STANDARD
TZOFFSETFROM:+0000
TZOFFSETTO:+0000
TZNAME:UTC
DTSTART:20180101T000000
END:STANDARD
END:VTIMEZONE
BEGIN:VEVENT
DTSTART;VALUE=DATE:20190718
DTEND;VALUE=DATE:20190722
DTSTAMP:20260425T153604
CREATED:20190327T115921Z
LAST-MODIFIED:20190327T115922Z
UID:331-1563408000-1563753599@kendo.pt
SUMMARY:Porto Summer Seminar | Kawahara Dojo
DESCRIPTION:The first ever Porto Summer Seminar is here! Save the date: july is the month and we start practicing on the 18th!\nSchedule and program to be announced soon\, but\, first and foremost\, here are the invited Sensei! \nHailing from Kawahara Dojo\, in Yokohama: \n-Suda Sensei\, Nanadan\n-Enami Sensei\, Nanadan\n-Harada Sensei\, Nanadan \nAll information will be updated here and we will be adding more info\, ASAP\, on https://kendoclubeporto.wordpress.com/summerseminar/.\nA registration form will be up soon.
URL:https://kendo.pt/event/porto-summer-seminar-kawahara-dojo/
LOCATION:Pavilhão Municipal das Pedras – Nelson Cardoso\, Rua Quinta das Pedras\, Gaia\, 4430-181\, Portugal
CATEGORIES:Estágio,Internacional,Kendo
ATTACH;FMTTYPE=image/jpeg:https://kendo.pt/wp-content/uploads/2019/03/55696247_10156651273822529_7628969594056605696_o.jpg
END:VEVENT
BEGIN:VEVENT
DTSTART;VALUE=DATE:20190719
DTEND;VALUE=DATE:20190727
DTSTAMP:20260425T153604
CREATED:20181212T135321Z
LAST-MODIFIED:20181212T135322Z
UID:300-1563494400-1564185599@kendo.pt
SUMMARY:2019 Foreign Kendo Leaders’ Summer Seminar
DESCRIPTION:Estágio orientado para o ensino de Kendo e conta com a participação de uma delegação de instrutores 8º dan onde se focam nos vários aspectos de ensino de Kendo (técnica\, arbitragem\, katas).\nO estágio é comparticipado pela All Japan Kendo Federation em que a única despesa a cargo dos participantes será a viagem para o Japão. Estadia e alimentação durante os dias do estágio ficarão a cargo da organização. Cada país poderá enviar candidatos que serão seleccionados pela All Japan Kendo Federation para participar no estágio.
URL:https://kendo.pt/event/2019-foreign-kendo-leaders-summer-seminar/
LOCATION:Kitamoto\, Gedatsukai Kenshu Center\, Kitamoto City\, Saitama Pref\, Japão
CATEGORIES:Estágio,Internacional,Kendo
ATTACH;FMTTYPE=image/jpeg:https://kendo.pt/wp-content/uploads/2018/12/20423909_10155000364912987_396499540286863295_o.jpg
END:VEVENT
END:VCALENDAR