BEGIN:VCALENDAR
VERSION:2.0
PRODID:-// - ECPv6.15.20//NONSGML v1.0//EN
CALSCALE:GREGORIAN
METHOD:PUBLISH
X-ORIGINAL-URL:https://kendo.pt
X-WR-CALDESC:Eventos para 
REFRESH-INTERVAL;VALUE=DURATION:PT1H
X-Robots-Tag:noindex
X-PUBLISHED-TTL:PT1H
BEGIN:VTIMEZONE
TZID:UTC
BEGIN:STANDARD
TZOFFSETFROM:+0000
TZOFFSETTO:+0000
TZNAME:UTC
DTSTART:20180101T000000
END:STANDARD
END:VTIMEZONE
BEGIN:VEVENT
DTSTART;TZID=UTC:20190202T080000
DTEND;TZID=UTC:20190203T170000
DTSTAMP:20260425T224557
CREATED:20181108T112347Z
LAST-MODIFIED:20181108T160512Z
UID:219-1549094400-1549213200@kendo.pt
SUMMARY:Estágio Arbitragem EKF/FIK
DESCRIPTION:
URL:https://kendo.pt/event/estagio-arbitragem-ekf-fik/
LOCATION:Bruxelas\, ADEPS\, Bruxelas
CATEGORIES:Estágio,Internacional,Kendo
ATTACH;FMTTYPE=image/jpeg:https://kendo.pt/wp-content/uploads/2018/09/461139_248402568597102_781427733_o-1000x288.jpg
END:VEVENT
END:VCALENDAR