BEGIN:VCALENDAR
VERSION:2.0
PRODID:-// - ECPv6.15.20//NONSGML v1.0//EN
CALSCALE:GREGORIAN
METHOD:PUBLISH
X-ORIGINAL-URL:https://kendo.pt
X-WR-CALDESC:Eventos para 
REFRESH-INTERVAL;VALUE=DURATION:PT1H
X-Robots-Tag:noindex
X-PUBLISHED-TTL:PT1H
BEGIN:VTIMEZONE
TZID:UTC
BEGIN:STANDARD
TZOFFSETFROM:+0000
TZOFFSETTO:+0000
TZNAME:UTC
DTSTART:20180101T000000
END:STANDARD
END:VTIMEZONE
BEGIN:VEVENT
DTSTART;VALUE=DATE:20190523
DTEND;VALUE=DATE:20190527
DTSTAMP:20260425T165557
CREATED:20181108T121144Z
LAST-MODIFIED:20181108T121144Z
UID:252-1558569600-1558915199@kendo.pt
SUMMARY:29º Campeonato Europeu de Kendo
DESCRIPTION:
URL:https://kendo.pt/event/29o-campeonato-europeu-de-kendo/
LOCATION:Belgrade\, Belgrade\, Sérvia
CATEGORIES:Competição,Internacional,Kendo
ATTACH;FMTTYPE=image/jpeg:https://kendo.pt/wp-content/uploads/2018/11/11392779_936138003104526_6247085114122370143_n.jpg
END:VEVENT
END:VCALENDAR