BEGIN:VCALENDAR
VERSION:2.0
PRODID:-// - ECPv6.15.20//NONSGML v1.0//EN
CALSCALE:GREGORIAN
METHOD:PUBLISH
X-ORIGINAL-URL:https://kendo.pt
X-WR-CALDESC:Eventos para 
REFRESH-INTERVAL;VALUE=DURATION:PT1H
X-Robots-Tag:noindex
X-PUBLISHED-TTL:PT1H
BEGIN:VTIMEZONE
TZID:UTC
BEGIN:STANDARD
TZOFFSETFROM:+0000
TZOFFSETTO:+0000
TZNAME:UTC
DTSTART:20250101T000000
END:STANDARD
END:VTIMEZONE
BEGIN:VEVENT
DTSTART;TZID=UTC:20260425T100000
DTEND;TZID=UTC:20260425T173000
DTSTAMP:20260421T100830
CREATED:20260417T075123Z
LAST-MODIFIED:20260417T075852Z
UID:1156-1777111200-1777138200@kendo.pt
SUMMARY:Treino Nacional (Kendo)
DESCRIPTION:No próximo dia 25 de abril\, terá lugar mais um Treino Nacional de Kendo\, a realizar no Pavilhão da Escola Secundária Fontes Pereira de Melo\, no Porto. \nA iniciativa é aberta a todos os praticantes\, sem restrições de graduação ou idade\, promovendo um momento de treino conjunto\, evolução técnica e partilha entre membros da comunidade de Kendo.
URL:https://kendo.pt/event/treino-nacional-kendo-12/
LOCATION:Pavilhão Escola Secundária Fontes Pereira de Melo\, Rua do Professor Damião Peres 44\, Porto\, 4100 - 198
CATEGORIES:Estágio,Kendo
ATTACH;FMTTYPE=image/png:https://kendo.pt/wp-content/uploads/2026/04/TreinoNacional_25Abril_InstagramFacebbok-e1776343988224.png
END:VEVENT
END:VCALENDAR