BEGIN:VCALENDAR
VERSION:2.0
PRODID:-// - ECPv6.15.20//NONSGML v1.0//EN
CALSCALE:GREGORIAN
METHOD:PUBLISH
X-ORIGINAL-URL:https://kendo.pt
X-WR-CALDESC:Eventos para 
REFRESH-INTERVAL;VALUE=DURATION:PT1H
X-Robots-Tag:noindex
X-PUBLISHED-TTL:PT1H
BEGIN:VTIMEZONE
TZID:UTC
BEGIN:STANDARD
TZOFFSETFROM:+0000
TZOFFSETTO:+0000
TZNAME:UTC
DTSTART:20240101T000000
END:STANDARD
END:VTIMEZONE
BEGIN:VEVENT
DTSTART;VALUE=DATE:20250713
DTEND;VALUE=DATE:20250714
DTSTAMP:20260421T122740
CREATED:20250102T005247Z
LAST-MODIFIED:20250102T005247Z
UID:911-1752364800-1752451199@kendo.pt
SUMMARY:Treino Nacional (Jodo)
DESCRIPTION:
URL:https://kendo.pt/event/treino-nacional-jodo-2/
LOCATION:Torres Novas\, Portugal
CATEGORIES:Jodo
END:VEVENT
END:VCALENDAR