BEGIN:VCALENDAR
VERSION:2.0
PRODID:-// - ECPv6.15.20//NONSGML v1.0//EN
CALSCALE:GREGORIAN
METHOD:PUBLISH
X-ORIGINAL-URL:https://kendo.pt
X-WR-CALDESC:Eventos para 
REFRESH-INTERVAL;VALUE=DURATION:PT1H
X-Robots-Tag:noindex
X-PUBLISHED-TTL:PT1H
BEGIN:VTIMEZONE
TZID:UTC
BEGIN:STANDARD
TZOFFSETFROM:+0000
TZOFFSETTO:+0000
TZNAME:UTC
DTSTART:20240101T000000
END:STANDARD
END:VTIMEZONE
BEGIN:VEVENT
DTSTART;VALUE=DATE:20250510
DTEND;VALUE=DATE:20250511
DTSTAMP:20260421T151841
CREATED:20250102T143203Z
LAST-MODIFIED:20250102T143645Z
UID:947-1746835200-1746921599@kendo.pt
SUMMARY:Treino Nacional (Kendo)
DESCRIPTION:
URL:https://kendo.pt/event/treino-nacional-kendo-3/
LOCATION:Pavilhão Municipal do Souto da Carpalhosa\, R. do Paraíso 124\, 2425-878 Souto da Carpalhosa\, Leiria\, Portugal
CATEGORIES:Kendo
ATTACH;FMTTYPE=image/jpeg:https://kendo.pt/wp-content/uploads/2018/09/Sónia-Martins_CAPhoto-Formação-e1539600704547.jpg
END:VEVENT
END:VCALENDAR