BEGIN:VCALENDAR
VERSION:2.0
PRODID:-// - ECPv6.15.20//NONSGML v1.0//EN
CALSCALE:GREGORIAN
METHOD:PUBLISH
X-ORIGINAL-URL:https://kendo.pt
X-WR-CALDESC:Eventos para 
REFRESH-INTERVAL;VALUE=DURATION:PT1H
X-Robots-Tag:noindex
X-PUBLISHED-TTL:PT1H
BEGIN:VTIMEZONE
TZID:UTC
BEGIN:STANDARD
TZOFFSETFROM:+0000
TZOFFSETTO:+0000
TZNAME:UTC
DTSTART:20240101T000000
END:STANDARD
END:VTIMEZONE
BEGIN:VEVENT
DTSTART;VALUE=DATE:20250412
DTEND;VALUE=DATE:20250413
DTSTAMP:20260421T163804
CREATED:20250102T143919Z
LAST-MODIFIED:20250204T095710Z
UID:954-1744416000-1744502399@kendo.pt
SUMMARY:Treino Nacional (Kendo)
DESCRIPTION:
URL:https://kendo.pt/event/treino-nacional-kendo-4/
LOCATION:Pavilhão Desportivo dos Pousos\, R. Virgílio Monteiro\, Leiria\, 2410-408\, Portugal
CATEGORIES:Estágio,Kendo
ATTACH;FMTTYPE=image/jpeg:https://kendo.pt/wp-content/uploads/2018/09/IMG_1578_.jpg
END:VEVENT
END:VCALENDAR