BEGIN:VCALENDAR
VERSION:2.0
PRODID:-// - ECPv6.15.20//NONSGML v1.0//EN
CALSCALE:GREGORIAN
METHOD:PUBLISH
X-ORIGINAL-URL:https://kendo.pt
X-WR-CALDESC:Eventos para 
REFRESH-INTERVAL;VALUE=DURATION:PT1H
X-Robots-Tag:noindex
X-PUBLISHED-TTL:PT1H
BEGIN:VTIMEZONE
TZID:UTC
BEGIN:STANDARD
TZOFFSETFROM:+0000
TZOFFSETTO:+0000
TZNAME:UTC
DTSTART:20240101T000000
END:STANDARD
END:VTIMEZONE
BEGIN:VEVENT
DTSTART;VALUE=DATE:20250222
DTEND;VALUE=DATE:20250223
DTSTAMP:20260421T233940
CREATED:20250102T005138Z
LAST-MODIFIED:20250210T145515Z
UID:908-1740182400-1740268799@kendo.pt
SUMMARY:Treino Nacional (Jodo)
DESCRIPTION:
URL:https://kendo.pt/event/treino-nacional-jodo/
LOCATION:Escola Secundária da Maia\, Avenida Luís de Camões\, 4470-194 Maia\, Portugal
CATEGORIES:Jodo
ATTACH;FMTTYPE=image/jpeg:https://kendo.pt/wp-content/uploads/2024/02/Estagio-Nacional-Jodo-Exames-Ikkyu-25Maio-Torres-Novas.jpg
END:VEVENT
END:VCALENDAR