BEGIN:VCALENDAR
VERSION:2.0
PRODID:-// - ECPv6.15.20//NONSGML v1.0//EN
CALSCALE:GREGORIAN
METHOD:PUBLISH
X-ORIGINAL-URL:https://kendo.pt
X-WR-CALDESC:Eventos para 
REFRESH-INTERVAL;VALUE=DURATION:PT1H
X-Robots-Tag:noindex
X-PUBLISHED-TTL:PT1H
BEGIN:VTIMEZONE
TZID:UTC
BEGIN:STANDARD
TZOFFSETFROM:+0000
TZOFFSETTO:+0000
TZNAME:UTC
DTSTART:20240101T000000
END:STANDARD
END:VTIMEZONE
BEGIN:VEVENT
DTSTART;VALUE=DATE:20250208
DTEND;VALUE=DATE:20250209
DTSTAMP:20260421T233951
CREATED:20250126T135005Z
LAST-MODIFIED:20250126T135005Z
UID:966-1738972800-1739059199@kendo.pt
SUMMARY:Campeonato Nacional de Iaido 2025
DESCRIPTION:
URL:https://kendo.pt/event/campeonato-nacional-de-iaido-2025/
LOCATION:Universidade de Aveiro\, Campus Universitário de Santiago\,\, Aveiro\, Aveiro\, 3810-193
CATEGORIES:Competição,Iaido
ATTACH;FMTTYPE=image/jpeg:https://kendo.pt/wp-content/uploads/2018/09/1_uCXc4uwK7tP-R29L39Jo_A.jpeg
END:VEVENT
BEGIN:VEVENT
DTSTART;VALUE=DATE:20250208
DTEND;VALUE=DATE:20250209
DTSTAMP:20260421T233951
CREATED:20250126T135124Z
LAST-MODIFIED:20250126T135124Z
UID:968-1738972800-1739059199@kendo.pt
SUMMARY:Estágio de Arbitragem Iaido 2025
DESCRIPTION:
URL:https://kendo.pt/event/estagio-de-arbitragem-iaido-2025/
LOCATION:Universidade de Aveiro\, Campus Universitário de Santiago\,\, Aveiro\, Aveiro\, 3810-193
CATEGORIES:Estágio,Iaido
ATTACH;FMTTYPE=image/jpeg:https://kendo.pt/wp-content/uploads/2018/09/iaido-3-tim-nichols.jpg
END:VEVENT
END:VCALENDAR