BEGIN:VCALENDAR
VERSION:2.0
PRODID:-// - ECPv6.15.20//NONSGML v1.0//EN
CALSCALE:GREGORIAN
METHOD:PUBLISH
X-ORIGINAL-URL:https://kendo.pt
X-WR-CALDESC:Eventos para 
REFRESH-INTERVAL;VALUE=DURATION:PT1H
X-Robots-Tag:noindex
X-PUBLISHED-TTL:PT1H
BEGIN:VTIMEZONE
TZID:UTC
BEGIN:STANDARD
TZOFFSETFROM:+0000
TZOFFSETTO:+0000
TZNAME:UTC
DTSTART:20230101T000000
END:STANDARD
END:VTIMEZONE
BEGIN:VEVENT
DTSTART;VALUE=DATE:20241123
DTEND;VALUE=DATE:20241125
DTSTAMP:20260422T042720
CREATED:20240228T205346Z
LAST-MODIFIED:20240228T205417Z
UID:816-1732320000-1732492799@kendo.pt
SUMMARY:Estágio Internacional Jodo 2024
DESCRIPTION:Vai realizar-se pela terceira vez consecutiva em Ovar\, o Estágio Internacional Jodo 2024 \nBrevemente mais detalhes na página: https://jodoseminar.kendo.pt/
URL:https://kendo.pt/event/estagio-internacional-jodo-2024/
LOCATION:Ovar\, Ovar\, Portugal
CATEGORIES:Estágio,Jodo
ATTACH;FMTTYPE=image/jpeg:https://kendo.pt/wp-content/uploads/2024/02/III-Estagio-Internacional-Jodo-23-e-24-Novembro-Ovar-scaled.jpg
END:VEVENT
END:VCALENDAR