BEGIN:VCALENDAR
VERSION:2.0
PRODID:-// - ECPv6.15.20//NONSGML v1.0//EN
CALSCALE:GREGORIAN
METHOD:PUBLISH
X-ORIGINAL-URL:https://kendo.pt
X-WR-CALDESC:Eventos para 
REFRESH-INTERVAL;VALUE=DURATION:PT1H
X-Robots-Tag:noindex
X-PUBLISHED-TTL:PT1H
BEGIN:VTIMEZONE
TZID:UTC
BEGIN:STANDARD
TZOFFSETFROM:+0000
TZOFFSETTO:+0000
TZNAME:UTC
DTSTART:20230101T000000
END:STANDARD
END:VTIMEZONE
BEGIN:VEVENT
DTSTART;VALUE=DATE:20241019
DTEND;VALUE=DATE:20241020
DTSTAMP:20260422T060335
CREATED:20240206T173028Z
LAST-MODIFIED:20240923T155951Z
UID:791-1729296000-1729382399@kendo.pt
SUMMARY:Estágio Arbitragem Nacional 2024
DESCRIPTION:A Federação Portuguesa de Kendo vai promover uma formação interna de arbitragem e gestão de competições de Kendo. O estágio irá ser orientado por dois árbitros internacionais 7º dan \nApesar do treino de arbitragem ser mais focado para os árbitros nacionais é fundamental a participação de todos os praticantes\, independentemente do nível\, pois é uma boa oportunidade para treinarem e compreenderem shiai. \nEspera-se que todos os 3º dan ou superior participem como candidatos a árbitros. Assim solicitamos que os respectivos clubes nos confirmem a presença dos seus praticantes com graduações a partir de 3º dan. \nEsta é também uma excelente oportunidade de treino para competição e aprendizagem de regras de arbitragem por kendokas com menos graduação.
URL:https://kendo.pt/event/estagio-arbitragem-nacional-2024/
LOCATION:Pavilhão Municipal do Souto da Carpalhosa\, R. do Paraíso 124\, 2425-878 Souto da Carpalhosa\, Leiria\, Portugal
CATEGORIES:Estágio,Kendo
ATTACH;FMTTYPE=image/jpeg:https://kendo.pt/wp-content/uploads/2019/06/Bruno-Moraes_CAPhoto-Formação.jpg
END:VEVENT
END:VCALENDAR