BEGIN:VCALENDAR
VERSION:2.0
PRODID:-// - ECPv6.15.20//NONSGML v1.0//EN
CALSCALE:GREGORIAN
METHOD:PUBLISH
X-ORIGINAL-URL:https://kendo.pt
X-WR-CALDESC:Eventos para 
REFRESH-INTERVAL;VALUE=DURATION:PT1H
X-Robots-Tag:noindex
X-PUBLISHED-TTL:PT1H
BEGIN:VTIMEZONE
TZID:UTC
BEGIN:STANDARD
TZOFFSETFROM:+0000
TZOFFSETTO:+0000
TZNAME:UTC
DTSTART:20230101T000000
END:STANDARD
END:VTIMEZONE
BEGIN:VEVENT
DTSTART;VALUE=DATE:20240525
DTEND;VALUE=DATE:20240526
DTSTAMP:20260422T130459
CREATED:20240206T172642Z
LAST-MODIFIED:20240330T141748Z
UID:787-1716595200-1716681599@kendo.pt
SUMMARY:Tamashii Cup 2024
DESCRIPTION:No dia 26 de Maio vai decorrer a 6ª edição da Tamashii Cup um torneio aberto misto e sem restrições/escalões de graduação. \nOs interessados em participar deverão registar-se na competição através do site: http://tamashiicup.kendo.pt (O Formulário estará disponivel brevemente)
URL:https://kendo.pt/event/tamashii-cup-2024/
LOCATION:Porto\, Portugal
CATEGORIES:Competição,Kendo
ATTACH;FMTTYPE=image/jpeg:https://kendo.pt/wp-content/uploads/2018/09/Sónia-Martins_CAPhoto-Formação-e1539600704547.jpg
END:VEVENT
BEGIN:VEVENT
DTSTART;VALUE=DATE:20240525
DTEND;VALUE=DATE:20240526
DTSTAMP:20260422T130459
CREATED:20240228T205233Z
LAST-MODIFIED:20240228T205233Z
UID:814-1716595200-1716681599@kendo.pt
SUMMARY:Estágio Nacional Jodo | Exames Ikkyu
DESCRIPTION:O Estágio Nacional Jodo com Exames Ikkyu\, vai realizar-se no dia 25 Maio na Cidade de Torres Novas \nA direcção do evento e Painel de Exames\, está a cargo exclusivamente de Senseis nacionais. \nLOCAL: Pavilhão da Escola Básica Manuel Figueiredo | Av. Manuel Figueiredo\, 2350-771 Torres Novas \nhttps://maps.app.goo.gl/78o19mH1HtBFy4Ui6
URL:https://kendo.pt/event/estagio-nacional-jodo-exames-ikkyu/
LOCATION:Pavilhão da Escola Manuel Figueiredo\, R. José Costa Nery\, Torres Novas\, 2350-090\, Portugal
CATEGORIES:Estágio,Jodo
ATTACH;FMTTYPE=image/jpeg:https://kendo.pt/wp-content/uploads/2024/02/Estagio-Nacional-Jodo-Exames-Ikkyu-25Maio-Torres-Novas.jpg
END:VEVENT
END:VCALENDAR