BEGIN:VCALENDAR
VERSION:2.0
PRODID:-// - ECPv6.15.20//NONSGML v1.0//EN
CALSCALE:GREGORIAN
METHOD:PUBLISH
X-ORIGINAL-URL:https://kendo.pt
X-WR-CALDESC:Eventos para 
REFRESH-INTERVAL;VALUE=DURATION:PT1H
X-Robots-Tag:noindex
X-PUBLISHED-TTL:PT1H
BEGIN:VTIMEZONE
TZID:UTC
BEGIN:STANDARD
TZOFFSETFROM:+0000
TZOFFSETTO:+0000
TZNAME:UTC
DTSTART:20230101T000000
END:STANDARD
END:VTIMEZONE
BEGIN:VEVENT
DTSTART;VALUE=DATE:20240323
DTEND;VALUE=DATE:20240324
DTSTAMP:20260422T155705
CREATED:20240228T205115Z
LAST-MODIFIED:20240228T205115Z
UID:811-1711152000-1711238399@kendo.pt
SUMMARY:Campeonato Nacional Jodo | Estágio de arbitragem
DESCRIPTION:A edição de 2024 do Campeonato Nacional de Jodo – CNJ\, terá competição individual e Estágio de Arbitragem. O Estágio de Arbitragem é uma excelente oportunidade\, para aprendizagem das regras de arbitragem e prática de arbitragem em shiai.   \nDo Campeonato Nacional de Jodo\, vão sair os candidatos a integrar a Seleção Nacional de Jodo.  \nLOCAL : Pavilhão ESPAMOL |  Morada: Bairro Che Lagoense 74\, 8400-303 Lagoa\, Portugal  \nMapa: https://g.co/kgs/RStKDj 
URL:https://kendo.pt/event/campeonato-nacional-jodo-estagio-de-arbitragem/
LOCATION:Pavilhão ESPAMOL\, Bairro Che Lagoense 74\, Lagoa\, 8400-303
CATEGORIES:Competição,Estágio,Jodo
ATTACH;FMTTYPE=image/jpeg:https://kendo.pt/wp-content/uploads/2024/02/Campeonato-Nacional-JODO-23-Marco-Lagoa.jpg
END:VEVENT
END:VCALENDAR