BEGIN:VCALENDAR
VERSION:2.0
PRODID:-// - ECPv6.15.20//NONSGML v1.0//EN
CALSCALE:GREGORIAN
METHOD:PUBLISH
X-ORIGINAL-URL:https://kendo.pt
X-WR-CALDESC:Eventos para 
REFRESH-INTERVAL;VALUE=DURATION:PT1H
X-Robots-Tag:noindex
X-PUBLISHED-TTL:PT1H
BEGIN:VTIMEZONE
TZID:UTC
BEGIN:STANDARD
TZOFFSETFROM:+0000
TZOFFSETTO:+0000
TZNAME:UTC
DTSTART:20230101T000000
END:STANDARD
END:VTIMEZONE
BEGIN:VEVENT
DTSTART;VALUE=DATE:20240217
DTEND;VALUE=DATE:20240218
DTSTAMP:20260422T195933
CREATED:20240228T204844Z
LAST-MODIFIED:20240228T204844Z
UID:807-1708128000-1708214399@kendo.pt
SUMMARY:Treino Nacional de JODO Fevereiro 2024
DESCRIPTION:No Sábado dia 17 Fevereiro\, realizou-se em Aveiro o 1.º Treino Nacional de JODO 2024 com a orientação do Selecionador Nacional António Pinheiro.\nEste Evento contou com a participação da maior parte dos Clubes Nacionais. \nEsta prática tem como base a preparação para os Europeus na Finlândia – Setembro 2024
URL:https://kendo.pt/event/treino-nacional-de-jodo-fevereiro-2024/
CATEGORIES:Estágio,Jodo
ATTACH;FMTTYPE=image/jpeg:https://kendo.pt/wp-content/uploads/2024/02/Treino-Nacional-JODO-17-Fev-2024.jpg
END:VEVENT
END:VCALENDAR