BEGIN:VCALENDAR
VERSION:2.0
PRODID:-// - ECPv6.15.20//NONSGML v1.0//EN
CALSCALE:GREGORIAN
METHOD:PUBLISH
X-ORIGINAL-URL:https://kendo.pt
X-WR-CALDESC:Eventos para 
REFRESH-INTERVAL;VALUE=DURATION:PT1H
X-Robots-Tag:noindex
X-PUBLISHED-TTL:PT1H
BEGIN:VTIMEZONE
TZID:UTC
BEGIN:STANDARD
TZOFFSETFROM:+0000
TZOFFSETTO:+0000
TZNAME:UTC
DTSTART:20220101T000000
END:STANDARD
END:VTIMEZONE
BEGIN:VEVENT
DTSTART;VALUE=DATE:20231125
DTEND;VALUE=DATE:20231126
DTSTAMP:20260422T224206
CREATED:20230219T001623Z
LAST-MODIFIED:20231101T150324Z
UID:623-1700870400-1700956799@kendo.pt
SUMMARY:Campeonato Nacional de Kendo (Individuais) 2023
DESCRIPTION:Campeonato Nacional de Kendo de 2023. \nO campeonato Nacional irá decorrer no dia 25 de Novembro e será composto por quatro escalões (Veteranos\, Masculino\, Feminino e Juniores) existindo um campeão nacional para cada um deles. \nÉ de relembrar que este evento contribui\, de forma decisiva\, para a observação e escolha de elementos para a Selecção Nacional de Kendo. \nNOTA: Atenção que poderá haver alterações nos escalões definidos dependendo do número de participantes inscritos.\n \nHorário: \n10h-17h (sem pausa de almoço) \nInscrições: \nA inscrição no Campeonato Nacional terá o custo de 10 euros por participante\, esse custo deverá ser pago pelos clubes à APK. O clubes devem inscrever os seus associados através do portal de gestão de clubes. \nLocal: Pavilhão Gimnodesportivo da Palheira 3040-692 Assafarge \nMapa: https://maps.app.goo.gl/xCRjzUEUvXtN6YiF6 \n 
URL:https://kendo.pt/event/campeonato-nacional-de-kendo-individuais-2023/
LOCATION:Pavilhão Gimnodesportivo da Palheira\, R. Nova\, Assafarge\, 3040-692\, Portugal
CATEGORIES:Competição,Kendo
ATTACH;FMTTYPE=image/jpeg:https://kendo.pt/wp-content/uploads/2018/09/16th-World-Kendo-Championship-Portugal-Belgium-1-1.jpg
END:VEVENT
END:VCALENDAR