BEGIN:VCALENDAR
VERSION:2.0
PRODID:-// - ECPv6.15.20//NONSGML v1.0//EN
CALSCALE:GREGORIAN
METHOD:PUBLISH
X-ORIGINAL-URL:https://kendo.pt
X-WR-CALDESC:Eventos para 
REFRESH-INTERVAL;VALUE=DURATION:PT1H
X-Robots-Tag:noindex
X-PUBLISHED-TTL:PT1H
BEGIN:VTIMEZONE
TZID:UTC
BEGIN:STANDARD
TZOFFSETFROM:+0000
TZOFFSETTO:+0000
TZNAME:UTC
DTSTART:20220101T000000
END:STANDARD
END:VTIMEZONE
BEGIN:VEVENT
DTSTART;VALUE=DATE:20231111
DTEND;VALUE=DATE:20231112
DTSTAMP:20260422T224124
CREATED:20230219T002249Z
LAST-MODIFIED:20231030T002025Z
UID:625-1699660800-1699747199@kendo.pt
SUMMARY:Treino Nacional de Kendo - Novembro 2023
DESCRIPTION:Os Treinos Nacionais são destinados a todos os praticantes independentemente do seu nível de Kendo. O objectivo destes treinos é fomentar a prática entre os vários clubes nacionais\, uniformizar métodos de ensino e exercícios seguindo um plano organizado pelo sensei Ariga\, e dar oportunidade aos iniciantes de treinar com pessoas mais experientes. \nO horário previsto para o treino será: \nSessão da manhã: 10h30 – 12h\nSessão da tarde: 14h – 17h
URL:https://kendo.pt/event/treino-nacional-de-kendo-novembro-2023/
LOCATION:Pavilhão Municipal das Pedras – Nelson Cardoso\, Rua Quinta das Pedras\, Gaia\, 4430-181\, Portugal
CATEGORIES:Estágio,Kendo
ATTACH;FMTTYPE=image/jpeg:https://kendo.pt/wp-content/uploads/2018/09/IMG_1578_.jpg
END:VEVENT
BEGIN:VEVENT
DTSTART;VALUE=DATE:20231111
DTEND;VALUE=DATE:20231113
DTSTAMP:20260422T224124
CREATED:20230219T003756Z
LAST-MODIFIED:20230910T221550Z
UID:632-1699660800-1699833599@kendo.pt
SUMMARY:Estágio Nacional Jodo 2023
DESCRIPTION:A direcção do evento e Painel de Exames\, está a cargo dos Senseis: \nAad van de Winjgaart – Jodo 7º dan Renshi\nRobert Völkmann – Jodo 6º dan Renshi\nSusanne Berko – Jodo 6º dan Renshi\nElise Heijboer\, 5 Dan Jodo\nJoaquim Mendes\, 5 Dan Jodo \nHorário\nSábado – 11 de Novembro\n09:30 – 12:30 – Practica\n12:30 – 14:00 – Pausa para almoço\n14:00 – 17:30 – Practica \nDomingo – 12 de Novembro\n09:30 – 12:30 – Practica\n12:30 – 14:00 – Pausa para almoço\n14:00 – 16:30 – Exames \nLocal do Estágio\nPavilhão / Ginásio da CERCIVAR\nMorada: Pavilhão/Ginásio da CERCIVAR\, Rua da Cercivar– 3880-161 Ovar.\nMapa: https://goo.gl/maps/TZ2sVhkRtF84rBDj9
URL:https://kendo.pt/event/estagio-nacional-jodo-2023/
LOCATION:Rua da Cercivar– 3880-161 Ovar\, Rua da Cercivar– 3880-161 Ovar\, Ovar\, Portugal
CATEGORIES:Estágio,Jodo
ATTACH;FMTTYPE=image/png:https://kendo.pt/wp-content/uploads/2023/02/WEB-ENJ2023_SITE-FPKIJ_V3.png
END:VEVENT
END:VCALENDAR