BEGIN:VCALENDAR
VERSION:2.0
PRODID:-// - ECPv6.15.20//NONSGML v1.0//EN
CALSCALE:GREGORIAN
METHOD:PUBLISH
X-ORIGINAL-URL:https://kendo.pt
X-WR-CALDESC:Eventos para 
REFRESH-INTERVAL;VALUE=DURATION:PT1H
X-Robots-Tag:noindex
X-PUBLISHED-TTL:PT1H
BEGIN:VTIMEZONE
TZID:UTC
BEGIN:STANDARD
TZOFFSETFROM:+0000
TZOFFSETTO:+0000
TZNAME:UTC
DTSTART:20220101T000000
END:STANDARD
END:VTIMEZONE
BEGIN:VEVENT
DTSTART;VALUE=DATE:20230923
DTEND;VALUE=DATE:20230924
DTSTAMP:20260423T012845
CREATED:20230219T004150Z
LAST-MODIFIED:20230818T085045Z
UID:640-1695427200-1695513599@kendo.pt
SUMMARY:Encontro Nacional Iaido 2023
DESCRIPTION:
URL:https://kendo.pt/event/encontro-nacional-iaido-2023/
LOCATION:Pavilhão da Escola Manuel Figueiredo\, R. José Costa Nery\, Torres Novas\, 2350-090\, Portugal
CATEGORIES:Estágio,Iaido
ATTACH;FMTTYPE=image/jpeg:https://kendo.pt/wp-content/uploads/2023/02/ENI2023.jpg
END:VEVENT
END:VCALENDAR