BEGIN:VCALENDAR
VERSION:2.0
PRODID:-// - ECPv6.15.20//NONSGML v1.0//EN
CALSCALE:GREGORIAN
METHOD:PUBLISH
X-ORIGINAL-URL:https://kendo.pt
X-WR-CALDESC:Eventos para 
REFRESH-INTERVAL;VALUE=DURATION:PT1H
X-Robots-Tag:noindex
X-PUBLISHED-TTL:PT1H
BEGIN:VTIMEZONE
TZID:UTC
BEGIN:STANDARD
TZOFFSETFROM:+0000
TZOFFSETTO:+0000
TZNAME:UTC
DTSTART:20220101T000000
END:STANDARD
END:VTIMEZONE
BEGIN:VEVENT
DTSTART;VALUE=DATE:20230709
DTEND;VALUE=DATE:20230710
DTSTAMP:20260423T055351
CREATED:20230218T233059Z
LAST-MODIFIED:20230218T233059Z
UID:611-1688860800-1688947199@kendo.pt
SUMMARY:Tamashii Cup 2023
DESCRIPTION:No dia 9 de Julho vai decorrer a 5ª edição da Tamashii Cup um torneio aberto misto e sem restrições/escalões de graduação. \nOs interessados em participar deverão registar-se na competição através do site: http://tamashiicup.kendo.pt (O Formulário estará disponivel brevemente)
URL:https://kendo.pt/event/tamashii-cup-2023/
LOCATION:Pavilhão Municipal das Pedras – Nelson Cardoso\, Rua Quinta das Pedras\, Gaia\, 4430-181\, Portugal
CATEGORIES:Competição,Internacional,Kendo
END:VEVENT
END:VCALENDAR