BEGIN:VCALENDAR
VERSION:2.0
PRODID:-// - ECPv6.15.20//NONSGML v1.0//EN
CALSCALE:GREGORIAN
METHOD:PUBLISH
X-ORIGINAL-URL:https://kendo.pt
X-WR-CALDESC:Eventos para 
REFRESH-INTERVAL;VALUE=DURATION:PT1H
X-Robots-Tag:noindex
X-PUBLISHED-TTL:PT1H
BEGIN:VTIMEZONE
TZID:UTC
BEGIN:STANDARD
TZOFFSETFROM:+0000
TZOFFSETTO:+0000
TZNAME:UTC
DTSTART:20220101T000000
END:STANDARD
END:VTIMEZONE
BEGIN:VEVENT
DTSTART;VALUE=DATE:20230527
DTEND;VALUE=DATE:20230528
DTSTAMP:20260423T073754
CREATED:20230219T003641Z
LAST-MODIFIED:20230505T220956Z
UID:630-1685145600-1685231999@kendo.pt
SUMMARY:Encontro Nacional Jodo 2023
DESCRIPTION:OEncontro Nacional Jodo com Exames Ikkyu\, vai realizar-se no dia 27 Maio na Cidade da Maia. Abaixo enviamos todos os detalhes\, para que possam divulgar o evento junto dos vossos praticantes. \nA direcção do evento e Painel de Exames\, está a cargo dos Senseis: \nJoaquim Mendes \nJoão Maia \nAntónio Pinheiro \nLocal : Pavilhão da Escola Secundária da Maia\, Av. Luís de Camões\, 4470-194 Maia \nMapa: https://goo.gl/maps/UtSqp3vNE9y2P3c97 \nHorário do evento:  manhã – 10:00h às 12:00h | tarde – 14:00h às 17:30 | Abertura do Pavilhão – 09:30h \nInscrições o evento :  Cada clube deverá proceder à inscrição dos praticantes federados que vão participar no evento\, no portal clubes da FPKIJ (https://clubs.kendo.pt/). Podem proceder às inscrições até dia 25 de Maio\, após essa data não será possível inscrever mais pessoas no evento. \nValor da inscrição para o evento: 10 euros por participante\, esse custo deverá ser pago pelos clubes diretamente à FPKIJ. \nValor de Exames:  O valor de inscrição e certificado\, deverá ser pago no dia do evento\, de acordo com o regulamento Interno da FPKIJ \nSugestões de Alojamento:  Hotel Central Parque ;  https://www.hotelcentralparque.com/pt/reservas/ \nSugestões de locais de refeições: Churrasqueira Mister Churrasco que tem espaço para grupos. https://misterchurrasco.pt/. No dia do evento\, será feito um levantamento dos praticantes que pretendam a reserva de mesa\, para o almoço. \nPara mais informações\, não hesitem em nos contactar\, respondendo a esta mensagem ou através do endereço de email da Federação (fpkij@kendo.pt).
URL:https://kendo.pt/event/encontro-nacional-jodo-2023/
LOCATION:Pavilhão Municipal das Pedras – Nelson Cardoso\, Rua Quinta das Pedras\, Gaia\, 4430-181\, Portugal
CATEGORIES:Estágio,Jodo
ATTACH;FMTTYPE=image/png:https://kendo.pt/wp-content/uploads/2023/05/ENJ2023-v2.png
END:VEVENT
END:VCALENDAR