BEGIN:VCALENDAR
VERSION:2.0
PRODID:-// - ECPv6.15.20//NONSGML v1.0//EN
CALSCALE:GREGORIAN
METHOD:PUBLISH
X-ORIGINAL-URL:https://kendo.pt
X-WR-CALDESC:Eventos para 
REFRESH-INTERVAL;VALUE=DURATION:PT1H
X-Robots-Tag:noindex
X-PUBLISHED-TTL:PT1H
BEGIN:VTIMEZONE
TZID:UTC
BEGIN:STANDARD
TZOFFSETFROM:+0000
TZOFFSETTO:+0000
TZNAME:UTC
DTSTART:20220101T000000
END:STANDARD
END:VTIMEZONE
BEGIN:VEVENT
DTSTART;VALUE=DATE:20230519
DTEND;VALUE=DATE:20230522
DTSTAMP:20260423T073717
CREATED:20230218T232531Z
LAST-MODIFIED:20230218T232531Z
UID:605-1684454400-1684713599@kendo.pt
SUMMARY:32º Campeonato Europeu de Kendo
DESCRIPTION:
URL:https://kendo.pt/event/32o-campeonato-europeu-de-kendo/
LOCATION:Beauvais\, France\, França
CATEGORIES:Competição,Internacional,Kendo
ATTACH;FMTTYPE=image/jpeg:https://kendo.pt/wp-content/uploads/2018/11/11269310_716120221825332_4328385604830845940_o.jpg
END:VEVENT
END:VCALENDAR