BEGIN:VCALENDAR
VERSION:2.0
PRODID:-// - ECPv6.15.20//NONSGML v1.0//EN
CALSCALE:GREGORIAN
METHOD:PUBLISH
X-ORIGINAL-URL:https://kendo.pt
X-WR-CALDESC:Eventos para 
REFRESH-INTERVAL;VALUE=DURATION:PT1H
X-Robots-Tag:noindex
X-PUBLISHED-TTL:PT1H
BEGIN:VTIMEZONE
TZID:UTC
BEGIN:STANDARD
TZOFFSETFROM:+0000
TZOFFSETTO:+0000
TZNAME:UTC
DTSTART:20220101T000000
END:STANDARD
END:VTIMEZONE
BEGIN:VEVENT
DTSTART;VALUE=DATE:20230506
DTEND;VALUE=DATE:20230507
DTSTAMP:20260423T073838
CREATED:20230218T232255Z
LAST-MODIFIED:20230218T232256Z
UID:603-1683331200-1683417599@kendo.pt
SUMMARY:Treino Nacional de Kendo - Maio 2023
DESCRIPTION:Os Treinos Nacionais são destinados a todos os praticantes independentemente do seu nível de Kendo. O objectivo destes treinos é fomentar a prática entre os vários clubes nacionais\, uniformizar métodos de ensino e exercícios seguindo um plano organizado pelo sensei Ariga\, e dar oportunidade aos iniciantes de treinar com pessoas mais experientes. \nO horário previsto para o treino será: \nSessão da manhã: 10h30 – 12h\nSessão da tarde: 14h – 17h
URL:https://kendo.pt/event/treino-nacional-de-kendo-maio-2023/
LOCATION:Pavilhão Desportivo dos Pousos\, R. Virgílio Monteiro\, Leiria\, 2410-408\, Portugal
CATEGORIES:Estágio,Kendo
ATTACH;FMTTYPE=image/jpeg:https://kendo.pt/wp-content/uploads/2018/11/10703389_10204559777184718_1177104245_o.jpg
END:VEVENT
END:VCALENDAR