BEGIN:VCALENDAR
VERSION:2.0
PRODID:-// - ECPv6.15.20//NONSGML v1.0//EN
CALSCALE:GREGORIAN
METHOD:PUBLISH
X-ORIGINAL-URL:https://kendo.pt
X-WR-CALDESC:Eventos para 
REFRESH-INTERVAL;VALUE=DURATION:PT1H
X-Robots-Tag:noindex
X-PUBLISHED-TTL:PT1H
BEGIN:VTIMEZONE
TZID:UTC
BEGIN:STANDARD
TZOFFSETFROM:+0000
TZOFFSETTO:+0000
TZNAME:UTC
DTSTART:20220101T000000
END:STANDARD
END:VTIMEZONE
BEGIN:VEVENT
DTSTART;VALUE=DATE:20230422
DTEND;VALUE=DATE:20230424
DTSTAMP:20260423T104051
CREATED:20230218T171018Z
LAST-MODIFIED:20230401T153718Z
UID:600-1682121600-1682294399@kendo.pt
SUMMARY:Ariga Cup - 2023
DESCRIPTION:Evento de fim de semana em que Sábado será um treino nacional de Kendo focado em competição e no Domingo uma competição mista de Seniores para disputar a Copa Ariga. \nInformações: https://arigacup.kendo.pt/wp/bem-vindos/ \n 
URL:https://kendo.pt/event/copa-ariga/
LOCATION:Pavilhao Escola EB 2/3 do Viso\, Rua José da Silva Passos\, Porto\, Portugal
CATEGORIES:Competição,Estágio,Kendo
ATTACH;FMTTYPE=image/png:https://kendo.pt/wp-content/uploads/2023/04/CA2023_Site-FPKIJ_v3.png
END:VEVENT
END:VCALENDAR