BEGIN:VCALENDAR
VERSION:2.0
PRODID:-// - ECPv6.15.20//NONSGML v1.0//EN
CALSCALE:GREGORIAN
METHOD:PUBLISH
X-ORIGINAL-URL:https://kendo.pt
X-WR-CALDESC:Eventos para 
REFRESH-INTERVAL;VALUE=DURATION:PT1H
X-Robots-Tag:noindex
X-PUBLISHED-TTL:PT1H
BEGIN:VTIMEZONE
TZID:UTC
BEGIN:STANDARD
TZOFFSETFROM:+0000
TZOFFSETTO:+0000
TZNAME:UTC
DTSTART:20220101T000000
END:STANDARD
END:VTIMEZONE
BEGIN:VEVENT
DTSTART;VALUE=DATE:20230401
DTEND;VALUE=DATE:20230402
DTSTAMP:20260423T091018
CREATED:20230219T003408Z
LAST-MODIFIED:20230313T233626Z
UID:627-1680307200-1680393599@kendo.pt
SUMMARY:Taikai Nacional Jodo - 2023
DESCRIPTION:O primeiro evento FPKIJ de Jodo este ano (Taikai e Estágio de Arbitragem) irá realizar-se no próximo sábado\, 01 de Abril\, em Lagoa. O local é a Escola Secundária Padre António Martins de Oliveira\, Lagoa:\n\n \n\nhttps://g.co/kgs/RStKDj\n\n \n\nO horário do evento\,  será das 10:00 às 17:30. O pavilhão abre às 09:30 e fecha às 18:00\, com uma hora de meia de almoço (13:00 às 14:30). O investimento para inscrição é de 10 Euros
URL:https://kendo.pt/event/taikai-nacional-jodo-2023/
LOCATION:Lagoa\, R. de Che Lagoense 74\, 8400-303 Lagoa\, Lagoa\, Portugal
CATEGORIES:Competição,Jodo
ATTACH;FMTTYPE=image/jpeg:https://kendo.pt/wp-content/uploads/2023/03/CNJ2023_v1-scaled-e1678750462407.jpg
END:VEVENT
END:VCALENDAR