BEGIN:VCALENDAR
VERSION:2.0
PRODID:-// - ECPv6.15.20//NONSGML v1.0//EN
CALSCALE:GREGORIAN
METHOD:PUBLISH
X-ORIGINAL-URL:https://kendo.pt
X-WR-CALDESC:Eventos para 
REFRESH-INTERVAL;VALUE=DURATION:PT1H
X-Robots-Tag:noindex
X-PUBLISHED-TTL:PT1H
BEGIN:VTIMEZONE
TZID:UTC
BEGIN:STANDARD
TZOFFSETFROM:+0000
TZOFFSETTO:+0000
TZNAME:UTC
DTSTART:20220101T000000
END:STANDARD
END:VTIMEZONE
BEGIN:VEVENT
DTSTART;TZID=UTC:20230119T080000
DTEND;TZID=UTC:20230119T170000
DTSTAMP:20260423T144415
CREATED:20230119T180142Z
LAST-MODIFIED:20230119T180142Z
UID:585-1674115200-1674147600@kendo.pt
SUMMARY:Estágio Nacional Osaka Sensei 2023
DESCRIPTION:O Estágio Nacional Osaka Sensei é um estágio focado em treino e aprendizagem de técnicas de competição de Kendo. É um estágio fundamental para a escolha dos restantes elementos que irão compor a selecção masculina e feminina para a representação de Portugal no ano corrente. Estas selecções irão participar nos campeonatos da Europa de Kendo \, em França Maio 2023. \nNo entanto o estágio não é exclusivo para os que querem candidatar-se só às selecções nacionais mas sim é aberto a todos os praticantes de Kendo interessados em aprender. \nO estágio terá uma inscrição no valor de 40€ (gratuito para menores de 18) e cada clube deverá fazer a inscrição dos seus associados interessados em participar. \n  \nHorário\n \nSábado – 28 de Janeiro \n9:00 – Aquecimento e sessão de treino\n12:00 – Pausa de almoço\n14:00 – 18:00 – Sessão de treino e Keiko \nDomingo – 29 de Janeiro \n9:00 – Aquecimento e sessão de treino\n12:00 – Pausa de almoço\n14:00 – 17:00 – Sessão de treino e Keiko \n\nLocal do Estágio \nO estágio irá decorrer em dois pavilhões diferentes\, pedimos que tenham em atenção os dias e os locais para não haver enganos. \n  \nSábado dia 28 de Janeiro   \nPavilhão ESECS – IPLeiria\nMorada: Rua Dr. João Soares\, 2411-901 Leiria \nMapa: https://goo.gl/maps/ZtzPRkgVuKSctQpa7 \nDomingo dia 29 de Janeiro \nPavilhão do LIS \nMorada: Largo José Marques da Cruz\, Cortes\, Leiria \nMapa: https://goo.gl/maps/BH9XkzzizAHkV2Hj8
URL:https://kendo.pt/event/estagio-nacional-osaka-sensei-2023/
CATEGORIES:Estágio,Kendo
ATTACH;FMTTYPE=image/jpeg:https://kendo.pt/wp-content/uploads/2018/11/11392779_936138003104526_6247085114122370143_n.jpg
END:VEVENT
END:VCALENDAR