BEGIN:VCALENDAR
VERSION:2.0
PRODID:-// - ECPv6.15.20//NONSGML v1.0//EN
CALSCALE:GREGORIAN
METHOD:PUBLISH
X-ORIGINAL-URL:https://kendo.pt
X-WR-CALDESC:Eventos para 
REFRESH-INTERVAL;VALUE=DURATION:PT1H
X-Robots-Tag:noindex
X-PUBLISHED-TTL:PT1H
BEGIN:VTIMEZONE
TZID:UTC
BEGIN:STANDARD
TZOFFSETFROM:+0000
TZOFFSETTO:+0000
TZNAME:UTC
DTSTART:20190101T000000
END:STANDARD
END:VTIMEZONE
BEGIN:VEVENT
DTSTART;VALUE=DATE:20200620
DTEND;VALUE=DATE:20200621
DTSTAMP:20260425T132658
CREATED:20200119T175316Z
LAST-MODIFIED:20200119T175458Z
UID:405-1592611200-1592697599@kendo.pt
SUMMARY:Estágio Arbitragem Nacional 2020
DESCRIPTION:A Associação Portuguesa de Kendo vai promover uma formação interna de arbitragem e gestão de competições de Kendo. O estágio irá ser orientado por dois árbitros internacionais 7º dan \nApesar do treino de arbitragem ser mais focado para os árbitros nacionais é fundamental a participação de todos os praticantes\, independentemente do nível\, pois é uma boa oportunidade para treinarem e compreenderem shiai. \nEspera-se que todos os 3º dan ou superior participem como candidatos a árbitros. Assim solicitamos que os respectivos clubes nos confirmem a presença dos seus praticantes com graduações a partir de 3º dan. \nEsta é também uma excelente oportunidade de treino para competição e aprendizagem de regras de arbitragem por kendokas com menos graduação.
URL:https://kendo.pt/event/estagio-arbitragem-nacional-2020/
LOCATION:Porto\, Portugal
CATEGORIES:Estágio,Kendo
ATTACH;FMTTYPE=image/jpeg:https://kendo.pt/wp-content/uploads/2018/09/461139_248402568597102_781427733_o-1000x288.jpg
END:VEVENT
END:VCALENDAR